BEGIN:VCALENDAR
VERSION:2.0
PRODID:-//ACAAA - ECPv5.0.2.1//NONSGML v1.0//EN
CALSCALE:GREGORIAN
METHOD:PUBLISH
X-WR-CALNAME:ACAAA
X-ORIGINAL-URL:https://www.acaaa.org
X-WR-CALDESC:Events for ACAAA
BEGIN:VTIMEZONE
TZID:America/Chicago
BEGIN:DAYLIGHT
TZOFFSETFROM:-0600
TZOFFSETTO:-0500
TZNAME:CDT
DTSTART:20200308T080000
END:DAYLIGHT
BEGIN:STANDARD
TZOFFSETFROM:-0500
TZOFFSETTO:-0600
TZNAME:CST
DTSTART:20201101T070000
END:STANDARD
END:VTIMEZONE
BEGIN:VEVENT
DTSTART;VALUE=DATE:20200921
DTEND;VALUE=DATE:20200926
DTSTAMP:20260419T195423
CREATED:20200918T190007Z
LAST-MODIFIED:20200918T190139Z
UID:4189-1600646400-1601078399@www.acaaa.org
SUMMARY:WIPFLi Training
DESCRIPTION:The Division of County Operations\, Office of Community Services\, Community Services Block Grant is providing a series of online WIPFLi trainings to be held the week of September 21-25\, each morning from 9:00 to 11:15 a.m. Central time. \nTo register\, visit here. \nThe training topics for the week will be: \n1.Overview of the CSBG Standards: What Makes Your Organization A Community Action Agency \n\nBeing a CFO In A Multi-Funded Community Action Agency\nThe Regulations: Overviews of the Uniform Guidance\, Program Acts\, and Program Regulations\nWhat Makes Grant-Funded Accounting Unique\nTop 10 Fiscal Challenges in A Community Action Program\nBudgets: Why Program Years and Your Fiscal Year Are Important (And Often Different)\nSpending Federal Funds: What Allowable\, Unallowable and Needs Prior Approval Really Means\nInternal Controls: What They Are And Why We Need Them\nDocumentation and Records Retention\nCost Allocation including Direct Costs and Approved Indirect Cost Rates\n\n
URL:https://www.acaaa.org/event/wipfli-training/
END:VEVENT
END:VCALENDAR