BEGIN:VCALENDAR
VERSION:2.0
PRODID:-//ACAAA - ECPv5.0.2.1//NONSGML v1.0//EN
CALSCALE:GREGORIAN
METHOD:PUBLISH
X-WR-CALNAME:ACAAA
X-ORIGINAL-URL:https://www.acaaa.org
X-WR-CALDESC:Events for ACAAA
BEGIN:VTIMEZONE
TZID:America/Chicago
BEGIN:DAYLIGHT
TZOFFSETFROM:-0600
TZOFFSETTO:-0500
TZNAME:CDT
DTSTART:20200308T080000
END:DAYLIGHT
BEGIN:STANDARD
TZOFFSETFROM:-0500
TZOFFSETTO:-0600
TZNAME:CST
DTSTART:20201101T070000
END:STANDARD
END:VTIMEZONE
BEGIN:VEVENT
DTSTART;TZID=America/Chicago:20201014T090000
DTEND;TZID=America/Chicago:20201014T123000
DTSTAMP:20260419T181811
CREATED:20200918T191228Z
LAST-MODIFIED:20200918T191228Z
UID:4204-1602666000-1602678600@www.acaaa.org
SUMMARY:ACAAA Annual Conference: Employee Engagement / Process Improvement / Implicit Bias Awareness
DESCRIPTION:Visit here for workshop session descriptions and details on Conference registration. \n
URL:https://www.acaaa.org/event/acaaa-annual-conference-employee-engagement-process-improvement-implicit-bias-awareness/
END:VEVENT
END:VCALENDAR